BEGIN:VCALENDAR
VERSION:2.0
PRODID:-//ChurchDev//Events//EN
CALSCALE:GREGORIAN
METHOD:PUBLISH
BEGIN:VEVENT
UID:2589-20151213@www.churchdev.com
SUMMARY:Sunday Service
DTSTART:20151213T154500Z
DTEND:20151213T164500Z
DESCRIPTION:https://www.churchdev.com/demo/cd113/events/sunday-service/
URL:https://www.churchdev.com/demo/cd113/events/sunday-service/
DTSTAMP:20260425T231325Z
END:VEVENT
END:VCALENDAR
